BEGIN:VCALENDAR
VERSION:2.0
PRODID:-//In The Arms of An Angel - ECPv6.13.2.1//NONSGML v1.0//EN
CALSCALE:GREGORIAN
METHOD:PUBLISH
X-ORIGINAL-URL:https://inthearmsofanangel.org
X-WR-CALDESC:Events for In The Arms of An Angel
REFRESH-INTERVAL;VALUE=DURATION:PT1H
X-Robots-Tag:noindex
X-PUBLISHED-TTL:PT1H
BEGIN:VTIMEZONE
TZID:UTC
BEGIN:STANDARD
TZOFFSETFROM:+0000
TZOFFSETTO:+0000
TZNAME:UTC
DTSTART:20160101T000000
END:STANDARD
END:VTIMEZONE
BEGIN:VEVENT
DTSTART;VALUE=DATE:20161203
DTEND;VALUE=DATE:20161204
DTSTAMP:20260423T164258
CREATED:20160623T153907Z
LAST-MODIFIED:20161005T211212Z
UID:1270-1480723200-1480809599@inthearmsofanangel.org
SUMMARY:First Annual Family Event
DESCRIPTION:In The Arms of An Angel presents our First Annual Family Event on December 3\, 2016. The location is TBA. Have tons of Christmas gifts that need wrapping but don’t have the time? We offer you FREE Christmas Gift wrapping stations to SAVE THE HEADACHE so you can get all your Christmas gifts wrapped up for a donation of ANY amount.\nGet ready to impress by dressing up in your best hero costumes and princess gear for your VIP photos with favorites like the Snow Queen\, Batman\, and Superman. Get pampering for Mommy’s and little princesses alike with a little pixie dust at our makeup stations. Our fairies that are earning our wings will use their special make-up magic for all the kind princesses and heroines that donate ANY amount to the pixie jar.\nEnjoy our Santa Shop where kids can buy gifts from $1\, 2\, and $5 dollars and get them wrapped up to give this Christmas. Come on out and enjoy our many interactive activities\, Christmas shop\, gift wrapping\, giveaways\, games\, costume contests\, food\, and FREE candy! Everything you need to enjoy a winter event with our Snow Queen to provide just the right cool factor.
URL:https://inthearmsofanangel.org/eventcal/firstannualevent/
LOCATION:TBA\, Memphis\,TN\, TN\, 38125\, United States
CATEGORIES:Cook & Fruit,Family Fun,Festival,Party
ATTACH;FMTTYPE=image/jpeg:https://inthearmsofanangel.org/wp-content/uploads/2016/07/image-19.jpg
END:VEVENT
BEGIN:VEVENT
DTSTART;TZID=UTC:20161009T090000
DTEND;TZID=UTC:20161009T110000
DTSTAMP:20260423T164258
CREATED:20160914T215538Z
LAST-MODIFIED:20160918T051127Z
UID:2039-1476003600-1476010800@inthearmsofanangel.org
SUMMARY:Feeding Homeless in the Park
DESCRIPTION:We are excited to invite you out to 477 N Manassas St at Manassas Park in Memphis\, TN to feed the homeless. Our goal is to provide a delicious well-balanced meal every second Saturday to people currently experiencing homelessness in Memphis\, TN. We will feed an estimated 120 people at this event and have already distributed over 1000 meals. We are in need of servers and media volunteers. If you would like to volunteer now please click the link below! We hope you come out of join us all that’s needed is hands and an open heart.
URL:https://inthearmsofanangel.org/eventcal/feeding-homeless-in-the-park/
LOCATION:477 N Manassas St\, Memphis\, TN\, 38105\, United States
CATEGORIES:Homeless,Outreach
ATTACH;FMTTYPE=image/jpeg:https://inthearmsofanangel.org/wp-content/uploads/revslider/home-slider-21/banner2.jpg
END:VEVENT
END:VCALENDAR